BEGIN:VCALENDAR
VERSION:2.0
PRODID:-//Huron District - ECPv6.15.11//NONSGML v1.0//EN
CALSCALE:GREGORIAN
METHOD:PUBLISH
X-WR-CALNAME:Huron District
X-ORIGINAL-URL:https://www.hurondist.ca
X-WR-CALDESC:Events for Huron District
REFRESH-INTERVAL;VALUE=DURATION:PT1H
X-Robots-Tag:noindex
X-PUBLISHED-TTL:PT1H
BEGIN:VTIMEZONE
TZID:America/Toronto
BEGIN:DAYLIGHT
TZOFFSETFROM:-0500
TZOFFSETTO:-0400
TZNAME:EDT
DTSTART:20240310T070000
END:DAYLIGHT
BEGIN:STANDARD
TZOFFSETFROM:-0400
TZOFFSETTO:-0500
TZNAME:EST
DTSTART:20241103T060000
END:STANDARD
BEGIN:DAYLIGHT
TZOFFSETFROM:-0500
TZOFFSETTO:-0400
TZNAME:EDT
DTSTART:20250309T070000
END:DAYLIGHT
BEGIN:STANDARD
TZOFFSETFROM:-0400
TZOFFSETTO:-0500
TZNAME:EST
DTSTART:20251102T060000
END:STANDARD
BEGIN:DAYLIGHT
TZOFFSETFROM:-0500
TZOFFSETTO:-0400
TZNAME:EDT
DTSTART:20260308T070000
END:DAYLIGHT
BEGIN:STANDARD
TZOFFSETFROM:-0400
TZOFFSETTO:-0500
TZNAME:EST
DTSTART:20261101T060000
END:STANDARD
END:VTIMEZONE
BEGIN:VEVENT
DTSTART;TZID=America/Toronto:20251208T200000
DTEND;TZID=America/Toronto:20251208T200000
DTSTAMP:20260420T122011
CREATED:20250514T172627Z
LAST-MODIFIED:20250811T161724Z
UID:1037-1765224000-1765224000@www.hurondist.ca
SUMMARY:Installation - Lebanon Forest
DESCRIPTION:Join us for the annual Installation of Lodge Officers\, a formal ceremony marking the leadership transition within the lodge. The newly elected Worshipful Master and officers will be duly invested with their duties for the upcoming Masonic year. All Brethren\, visiting guests\, and invited family members are welcome to attend this significant occasion.
URL:https://www.hurondist.ca/event/installation-lebanon-forest/
LOCATION:Lebanon Forest\, 248 McConnell Street\, Exeter\, Ontario\, N0M 1S3\, Canada
CATEGORIES:Installation
END:VEVENT
END:VCALENDAR