BEGIN:VCALENDAR
VERSION:2.0
PRODID:-//Huron District - ECPv6.15.11//NONSGML v1.0//EN
CALSCALE:GREGORIAN
METHOD:PUBLISH
X-WR-CALNAME:Huron District
X-ORIGINAL-URL:https://www.hurondist.ca
X-WR-CALDESC:Events for Huron District
REFRESH-INTERVAL;VALUE=DURATION:PT1H
X-Robots-Tag:noindex
X-PUBLISHED-TTL:PT1H
BEGIN:VTIMEZONE
TZID:America/Toronto
BEGIN:DAYLIGHT
TZOFFSETFROM:-0500
TZOFFSETTO:-0400
TZNAME:EDT
DTSTART:20240310T070000
END:DAYLIGHT
BEGIN:STANDARD
TZOFFSETFROM:-0400
TZOFFSETTO:-0500
TZNAME:EST
DTSTART:20241103T060000
END:STANDARD
BEGIN:DAYLIGHT
TZOFFSETFROM:-0500
TZOFFSETTO:-0400
TZNAME:EDT
DTSTART:20250309T070000
END:DAYLIGHT
BEGIN:STANDARD
TZOFFSETFROM:-0400
TZOFFSETTO:-0500
TZNAME:EST
DTSTART:20251102T060000
END:STANDARD
BEGIN:DAYLIGHT
TZOFFSETFROM:-0500
TZOFFSETTO:-0400
TZNAME:EDT
DTSTART:20260308T070000
END:DAYLIGHT
BEGIN:STANDARD
TZOFFSETFROM:-0400
TZOFFSETTO:-0500
TZNAME:EST
DTSTART:20261101T060000
END:STANDARD
END:VTIMEZONE
BEGIN:VEVENT
DTSTART;TZID=America/Toronto:20250910T193000
DTEND;TZID=America/Toronto:20250910T193000
DTSTAMP:20260420T103625
CREATED:20250312T154740Z
LAST-MODIFIED:20250821T122241Z
UID:744-1757532600-1757532600@www.hurondist.ca
SUMMARY:Official Visit - Morning Star-Clinton
DESCRIPTION:Join us for the official visit of the District Deputy Grand Master to Morning Star-Clinton Lodge on September 10\, 2025\, at 7:30 PM. This important event marks a time-honoured tradition in Freemasonry\, where the DDGM will address the lodge\, offering guidance and insight into the activities of the district and the Grand Lodge. Members are encouraged to attend and participate in this special evening of brotherhood and reflection. \nWe look forward to welcoming our DDGM and sharing this memorable occasion with our fellow Masons.
URL:https://www.hurondist.ca/event/official-visit-morning-star-clinton/
LOCATION:Morning Star-Clinton\, 82257 Lucknow Line\, Goderich\, Ontario\, N7A 3Y3\, Canada
CATEGORIES:Official Visit
END:VEVENT
END:VCALENDAR