BEGIN:VCALENDAR
VERSION:2.0
PRODID:-//Huron District - ECPv6.15.11//NONSGML v1.0//EN
CALSCALE:GREGORIAN
METHOD:PUBLISH
X-WR-CALNAME:Huron District
X-ORIGINAL-URL:https://www.hurondist.ca
X-WR-CALDESC:Events for Huron District
REFRESH-INTERVAL;VALUE=DURATION:PT1H
X-Robots-Tag:noindex
X-PUBLISHED-TTL:PT1H
BEGIN:VTIMEZONE
TZID:America/Toronto
BEGIN:DAYLIGHT
TZOFFSETFROM:-0500
TZOFFSETTO:-0400
TZNAME:EDT
DTSTART:20240310T070000
END:DAYLIGHT
BEGIN:STANDARD
TZOFFSETFROM:-0400
TZOFFSETTO:-0500
TZNAME:EST
DTSTART:20241103T060000
END:STANDARD
BEGIN:DAYLIGHT
TZOFFSETFROM:-0500
TZOFFSETTO:-0400
TZNAME:EDT
DTSTART:20250309T070000
END:DAYLIGHT
BEGIN:STANDARD
TZOFFSETFROM:-0400
TZOFFSETTO:-0500
TZNAME:EST
DTSTART:20251102T060000
END:STANDARD
BEGIN:DAYLIGHT
TZOFFSETFROM:-0500
TZOFFSETTO:-0400
TZNAME:EDT
DTSTART:20260308T070000
END:DAYLIGHT
BEGIN:STANDARD
TZOFFSETFROM:-0400
TZOFFSETTO:-0500
TZNAME:EST
DTSTART:20261101T060000
END:STANDARD
END:VTIMEZONE
BEGIN:VEVENT
DTSTART;TZID=America/Toronto:20251209T200000
DTEND;TZID=America/Toronto:20251209T200000
DTSTAMP:20260420T135642
CREATED:20250312T154540Z
LAST-MODIFIED:20250821T123433Z
UID:740-1765310400-1765310400@www.hurondist.ca
SUMMARY:Official Visit - Tudor
DESCRIPTION:Join us for the official visit of the District Deputy Grand Master to Tudor Lodge on December 9\, 2025\, at 8:00 PM. This important event marks a time-honoured tradition in Freemasonry\, where the DDGM will address the lodge\, offering guidance and insight into the activities of the district and the Grand Lodge. Members are encouraged to attend and participate in this special evening of brotherhood and reflection. \nWe look forward to welcoming our DDGM and sharing this memorable occasion with our fellow Masons.
URL:https://www.hurondist.ca/event/official-visit-tudor/
LOCATION:Tudor\, 27 Ontario Road\, Mitchell\, Ontario\, N0K 1N0\, Canada
CATEGORIES:Official Visit
END:VEVENT
END:VCALENDAR