BEGIN:VCALENDAR
VERSION:2.0
PRODID:-//Huron District - ECPv6.15.11//NONSGML v1.0//EN
CALSCALE:GREGORIAN
METHOD:PUBLISH
X-WR-CALNAME:Huron District
X-ORIGINAL-URL:https://www.hurondist.ca
X-WR-CALDESC:Events for Huron District
REFRESH-INTERVAL;VALUE=DURATION:PT1H
X-Robots-Tag:noindex
X-PUBLISHED-TTL:PT1H
BEGIN:VTIMEZONE
TZID:America/Toronto
BEGIN:DAYLIGHT
TZOFFSETFROM:-0500
TZOFFSETTO:-0400
TZNAME:EDT
DTSTART:20240310T070000
END:DAYLIGHT
BEGIN:STANDARD
TZOFFSETFROM:-0400
TZOFFSETTO:-0500
TZNAME:EST
DTSTART:20241103T060000
END:STANDARD
BEGIN:DAYLIGHT
TZOFFSETFROM:-0500
TZOFFSETTO:-0400
TZNAME:EDT
DTSTART:20250309T070000
END:DAYLIGHT
BEGIN:STANDARD
TZOFFSETFROM:-0400
TZOFFSETTO:-0500
TZNAME:EST
DTSTART:20251102T060000
END:STANDARD
BEGIN:DAYLIGHT
TZOFFSETFROM:-0500
TZOFFSETTO:-0400
TZNAME:EDT
DTSTART:20260308T070000
END:DAYLIGHT
BEGIN:STANDARD
TZOFFSETFROM:-0400
TZOFFSETTO:-0500
TZNAME:EST
DTSTART:20261101T060000
END:STANDARD
END:VTIMEZONE
BEGIN:VEVENT
DTSTART;TZID=America/Toronto:20250615T170000
DTEND;TZID=America/Toronto:20250615T170000
DTSTAMP:20260420T092422
CREATED:20250526T135151Z
LAST-MODIFIED:20250526T140200Z
UID:1220-1750006800-1750006800@www.hurondist.ca
SUMMARY:Stratford Lodge’s 150th Anniversary: An Elegant Evening to Remember in 2025
DESCRIPTION:Milestones are meant to be celebrated\, especially when they mark over a century of tradition\, community service\, and brotherhood. On Sunday\, June 15\, 2025\, Stratford Lodge No. 332 of the A.F.& A.M.\, G.R.C. will commemorate its 150th anniversary with an unforgettable evening reception in Stratford\, Ontario. Set to unfold in the warm and inviting halls of the Army\, Navy & Air Force Veterans Hall at 151 Lorne Avenue East\, this celebration promises a blend of camaraderie\, rich history\, and hearty fare. Whether you’re a Mason\, a history enthusiast\, or a proud supporter of community heritage\, this event offers a rare glimpse into a legacy that spans a century and a half. Here’s everything you need to know about this prestigious gathering. A Historic Milestone for Stratford Lodge No. 332 Established in 1875\, Stratford Lodge No. 332 has been a pillar of the local Masonic community\, weathering generations of societal evolution while remaining true to its founding principles. The 150th anniversary is more than just a numerical achievement—it is a moment to honour the shared values of brotherhood\, charity\, and truth that have held strong across decades. This year’s celebration will be a heartfelt homage to the past while toasting the future. Event Details You Don’t Want to Miss Date: Sunday\, June 15\, 2025 Venue: Army\, Navy & Air Force Veterans Hall Address: 151 Lorne Avenue East\, Stratford\, ON Social Hour: Starts at 5:00 PM Dinner Served: 6:00 PM Guests are encouraged to arrive during social hour to mingle\, network\, and soak in the celebratory atmosphere before the formal dinner begins. The Menu: A Culinary Tribute to Tradition No celebration is complete without a feast. This event will serve a delicious and traditional spread featuring: Roast Beef Seasoned Potatoes Mixed Vegetables Fresh Buns Assorted Pies Should you have any dietary restrictions\, notify the organizers at the time of your reservation. Events like this do more than mark the passage of time. They remind us that our communities are built upon shared values\, sustained efforts\, and historical continuity. The 150th anniversary of Stratford Lodge No. 332 is a once-in-a-lifetime opportunity to honour that legacy. From the stories that echo through the lodge halls to the future generations inspired by its past\, this gathering bridges time and memory in one evening of celebration. The 150th Anniversary Celebration of Stratford Lodge No. 332 isn’t just a dinner—it’s a heartfelt celebration of legacy\, honour\, and community. As the Lodge reflects on a century and a half of fellowship and philanthropy\, this evening invites you to be a part of the story. From the rich menu to the warm companionship and historical significance\, June 15\, 2025\, will be a date to remember. So gather your loved ones\, don your evening attire\, and join Stratford’s masonic family in marking a glorious milestone. Reserve today—because history only happens once. 								\n				\n					\n				\n		\n					\n				\n				\n					Frequently Asked Questions				\n				\n				\n				\n							\n						\n				\n					 What should I wear to the event? \n							\n			\n			\n		\n\n						\n				\n				\n				\n									Business or formal evening attire is recommended for this elegant celebration. 								\n				\n				\n					\n						\n				\n					 Can I bring a guest? \n							\n			\n			\n		\n\n						\n				\n				\n				\n									Absolutely. Each attendee must send in a $50 reservation. Ensure all names and titles are included in the e-transfer message. 								\n				\n				\n					\n						\n				\n					 Will there be a program or speeches? \n							\n			\n			\n		\n\n						\n				\n				\n				\n									The evening will include introductions\, acknowledgments\, and brief commemorative messages celebrating the lodge’s history. 								\n				\n				\n					\n						\n				\n					 Is this event open to the public or only Masons? \n							\n			\n			\n		\n\n						\n				\n					\n				\n				\n									While the Stratford Lodge organizes the event\, all guests who reserve in advance are welcome to attend. 								\n				\n					\n				\n					\n						\n				\n					 How do I note my dietary restrictions? \n							\n			\n			\n		\n\n						\n				\n					\n				\n				\n									Include them in your e-transfer message or email 332stratford150th@gmail.com with your name and restrictions. 								\n				\n					\n				\n					\n						\n				\n					 Can I pay at the door? \n							\n			\n			\n		\n\n						\n				\n					\n				\n				\n									No. This is a pre-reservation-only event. No tickets will be sold or accepted at the door.
URL:https://www.hurondist.ca/event/stratford-lodge-150th-anniversary-event/
LOCATION:Army\, Navy & Air Force Veterans Hall\, 151 Lorne Ave E\, Stratford\, Ontario\, N4Z 1A1\, Canada
CATEGORIES:Lodge Event
ORGANIZER;CN="David Doherty":MAILTO:332stratford150th@gmail.com
END:VEVENT
END:VCALENDAR