BEGIN:VCALENDAR
VERSION:2.0
PRODID:-//Huron District - ECPv6.15.11//NONSGML v1.0//EN
CALSCALE:GREGORIAN
METHOD:PUBLISH
X-ORIGINAL-URL:https://www.hurondist.ca
X-WR-CALDESC:Events for Huron District
REFRESH-INTERVAL;VALUE=DURATION:PT1H
X-Robots-Tag:noindex
X-PUBLISHED-TTL:PT1H
BEGIN:VTIMEZONE
TZID:America/Toronto
BEGIN:DAYLIGHT
TZOFFSETFROM:-0500
TZOFFSETTO:-0400
TZNAME:EDT
DTSTART:20240310T070000
END:DAYLIGHT
BEGIN:STANDARD
TZOFFSETFROM:-0400
TZOFFSETTO:-0500
TZNAME:EST
DTSTART:20241103T060000
END:STANDARD
BEGIN:DAYLIGHT
TZOFFSETFROM:-0500
TZOFFSETTO:-0400
TZNAME:EDT
DTSTART:20250309T070000
END:DAYLIGHT
BEGIN:STANDARD
TZOFFSETFROM:-0400
TZOFFSETTO:-0500
TZNAME:EST
DTSTART:20251102T060000
END:STANDARD
BEGIN:DAYLIGHT
TZOFFSETFROM:-0500
TZOFFSETTO:-0400
TZNAME:EDT
DTSTART:20260308T070000
END:DAYLIGHT
BEGIN:STANDARD
TZOFFSETFROM:-0400
TZOFFSETTO:-0500
TZNAME:EST
DTSTART:20261101T060000
END:STANDARD
END:VTIMEZONE
BEGIN:VEVENT
DTSTART;TZID=America/Toronto:20251025T130000
DTEND;TZID=America/Toronto:20251025T160000
DTSTAMP:20260420T081649
CREATED:20250821T124847Z
LAST-MODIFIED:20251010T030157Z
UID:1275-1761397200-1761408000@www.hurondist.ca
SUMMARY:Halloween Bowling
DESCRIPTION:Halloween Bowling Party The Huron District Freemasons invite you to a spooktacular afternoon of family-friendly Halloween fun! \n Date & Time:Saturday\, October 25\, 20251:00 PM – 4:00 PM \n Location:St. Marys Bowling LanesSt. Marys\, Ontario \n️ Admission:By donation — all proceeds support the St. Marys Salvation Army Food Bank. \n Event Highlights: \n\n\nBowling for all ages \n\n\nHalloween costumes encouraged \n\n\nFestive games and treats \n\n\nCommunity fun with a cause \n\n\nDon’t miss out on a frightfully fun time while giving back to a great local charity. Bring your costume\, your crew\, and your community spirit!
URL:https://www.hurondist.ca/event/halloween-bowling/
LOCATION:St. Marys Bowling Lanes\, 21 Church St S\, St. Marys\, Ontario\, N4X 1A6\, Canada
CATEGORIES:District Event
END:VEVENT
END:VCALENDAR