BEGIN:VCALENDAR
VERSION:2.0
PRODID:-//Huron District - ECPv6.15.11//NONSGML v1.0//EN
CALSCALE:GREGORIAN
METHOD:PUBLISH
X-ORIGINAL-URL:https://www.hurondist.ca
X-WR-CALDESC:Events for Huron District
REFRESH-INTERVAL;VALUE=DURATION:PT1H
X-Robots-Tag:noindex
X-PUBLISHED-TTL:PT1H
BEGIN:VTIMEZONE
TZID:America/Toronto
BEGIN:DAYLIGHT
TZOFFSETFROM:-0500
TZOFFSETTO:-0400
TZNAME:EDT
DTSTART:20250309T070000
END:DAYLIGHT
BEGIN:STANDARD
TZOFFSETFROM:-0400
TZOFFSETTO:-0500
TZNAME:EST
DTSTART:20251102T060000
END:STANDARD
BEGIN:DAYLIGHT
TZOFFSETFROM:-0500
TZOFFSETTO:-0400
TZNAME:EDT
DTSTART:20260308T070000
END:DAYLIGHT
BEGIN:STANDARD
TZOFFSETFROM:-0400
TZOFFSETTO:-0500
TZNAME:EST
DTSTART:20261101T060000
END:STANDARD
BEGIN:DAYLIGHT
TZOFFSETFROM:-0500
TZOFFSETTO:-0400
TZNAME:EDT
DTSTART:20270314T070000
END:DAYLIGHT
BEGIN:STANDARD
TZOFFSETFROM:-0400
TZOFFSETTO:-0500
TZNAME:EST
DTSTART:20271107T060000
END:STANDARD
END:VTIMEZONE
BEGIN:VEVENT
DTSTART;TZID=America/Toronto:20260420T190000
DTEND;TZID=America/Toronto:20260420T190000
DTSTAMP:20260420T123956
CREATED:20241006T160722Z
LAST-MODIFIED:20250821T123356Z
UID:729-1776711600-1776711600@www.hurondist.ca
SUMMARY:Official Visit - St. James-Tecumseh
DESCRIPTION:Join us for the official visit of the District Deputy Grand Master to St. James-Tecumseh Lodge on April 20\, 2026\, at 7:00 PM. This important event marks a time-honoured tradition in Freemasonry\, where the DDGM will address the lodge\, offering guidance and insight into the activities of the district and the Grand Lodge. Members are encouraged to attend and participate in this special evening of brotherhood and reflection. \nWe look forward to welcoming our DDGM and sharing this memorable occasion with our fellow Masons.
URL:https://www.hurondist.ca/event/official-visit-st-james-tecumseh/
LOCATION:St. James-Tecumseh\, 45 Thames Road\, St. Marys\, Ontario\, N4X 1G1\, Canada
CATEGORIES:Official Visit
END:VEVENT
END:VCALENDAR